
BEGIN:VCALENDAR
VERSION:2.0
PRODID:-//Galerie Jaeschke - ECPv6.15.20//NONSGML v1.0//EN
CALSCALE:GREGORIAN
METHOD:PUBLISH
X-WR-CALNAME:Galerie Jaeschke
X-ORIGINAL-URL:https://galerie-jaeschke.de
X-WR-CALDESC:Veranstaltungen für Galerie Jaeschke
REFRESH-INTERVAL;VALUE=DURATION:PT1H
X-Robots-Tag:noindex
X-PUBLISHED-TTL:PT1H
BEGIN:VTIMEZONE
TZID:Europe/Berlin
BEGIN:DAYLIGHT
TZOFFSETFROM:+0100
TZOFFSETTO:+0200
TZNAME:CEST
DTSTART:20250330T010000
END:DAYLIGHT
BEGIN:STANDARD
TZOFFSETFROM:+0200
TZOFFSETTO:+0100
TZNAME:CET
DTSTART:20251026T010000
END:STANDARD
BEGIN:DAYLIGHT
TZOFFSETFROM:+0100
TZOFFSETTO:+0200
TZNAME:CEST
DTSTART:20260329T010000
END:DAYLIGHT
BEGIN:STANDARD
TZOFFSETFROM:+0200
TZOFFSETTO:+0100
TZNAME:CET
DTSTART:20261025T010000
END:STANDARD
BEGIN:DAYLIGHT
TZOFFSETFROM:+0100
TZOFFSETTO:+0200
TZNAME:CEST
DTSTART:20270328T010000
END:DAYLIGHT
BEGIN:STANDARD
TZOFFSETFROM:+0200
TZOFFSETTO:+0100
TZNAME:CET
DTSTART:20271031T010000
END:STANDARD
END:VTIMEZONE
BEGIN:VEVENT
DTSTART;TZID=Europe/Berlin:20260227T190000
DTEND;TZID=Europe/Berlin:20260227T230000
DTSTAMP:20260423T221245
CREATED:20260121T161922Z
LAST-MODIFIED:20260123T143144Z
UID:231964-1772218800-1772233200@galerie-jaeschke.de
SUMMARY:Vernissage Leon Löwentraut
DESCRIPTION:„Malen ist für mich ein forschender Erkenntnisprozess – ergebnisoffen.“\n– Leon Löwentraut\n  \nLeon Löwentraut „MOMENTUM“\n27.02.2026 um 19 Uhr \nGalerie Jaeschke | Braunschweig \nAusstellungsdauer: 28.02.-10.04.2026 \nWir laden Sie zu einem besonderen Abend voller Kunst\, Inspiration und einzigartiger Atmosphäre ein. Die neuen Arbeiten des Künstlers werden erstmals bei uns präsentiert und bieten spannende Einblicke in seine kraftvolle Bildsprache und expressive Farbwelt. \nWir freuen uns darauf\, Sie bei dieser exklusiven Vernissage begrüßen zu dürfen. \nLeon Löwentraut zählt zu den bekanntesten Vertretern einer jungen Generation zeitgenössischer Künstler. Bereits früh international wahrgenommen\, entwickelte er eine eigenständige Position\, die von Konsequenz\, Disziplin und einem reflektierten Umgang mit Öffentlichkeit geprägt ist. Seine Arbeit folgt keinem kurzfristigen Trend\, sondern einem kontinuierlichen Prozess der Auseinandersetzung mit Form\, Farbe und Struktur. \nDie Teilnahme an der Vernissage ist kostenfrei. \nBitte melden Sie sich für die Vernissage an!
URL:https://galerie-jaeschke.de/veranstaltung/vernissage-leon-loewentraut-2
LOCATION:Galerie-Jaeschke\, Schuhstraße 42\, Braunschweig\, Deutschland
CATEGORIES:Ausstellung,Vernissage
ORGANIZER;CN="Galerie Jaeschke":MAILTO:mail@galerie-jaeschke.de
END:VEVENT
END:VCALENDAR