
BEGIN:VCALENDAR
VERSION:2.0
PRODID:-//Galerie Jaeschke - ECPv6.15.20//NONSGML v1.0//EN
CALSCALE:GREGORIAN
METHOD:PUBLISH
X-WR-CALNAME:Galerie Jaeschke
X-ORIGINAL-URL:https://galerie-jaeschke.de
X-WR-CALDESC:Veranstaltungen für Galerie Jaeschke
REFRESH-INTERVAL;VALUE=DURATION:PT1H
X-Robots-Tag:noindex
X-PUBLISHED-TTL:PT1H
BEGIN:VTIMEZONE
TZID:Europe/Berlin
BEGIN:DAYLIGHT
TZOFFSETFROM:+0100
TZOFFSETTO:+0200
TZNAME:CEST
DTSTART:20250330T010000
END:DAYLIGHT
BEGIN:STANDARD
TZOFFSETFROM:+0200
TZOFFSETTO:+0100
TZNAME:CET
DTSTART:20251026T010000
END:STANDARD
BEGIN:DAYLIGHT
TZOFFSETFROM:+0100
TZOFFSETTO:+0200
TZNAME:CEST
DTSTART:20260329T010000
END:DAYLIGHT
BEGIN:STANDARD
TZOFFSETFROM:+0200
TZOFFSETTO:+0100
TZNAME:CET
DTSTART:20261025T010000
END:STANDARD
BEGIN:DAYLIGHT
TZOFFSETFROM:+0100
TZOFFSETTO:+0200
TZNAME:CEST
DTSTART:20270328T010000
END:DAYLIGHT
BEGIN:STANDARD
TZOFFSETFROM:+0200
TZOFFSETTO:+0100
TZNAME:CET
DTSTART:20271031T010000
END:STANDARD
END:VTIMEZONE
BEGIN:VEVENT
DTSTART;TZID=Europe/Berlin:20260612T100000
DTEND;TZID=Europe/Berlin:20260614T170000
DTSTAMP:20260423T220611
CREATED:20260214T150012Z
LAST-MODIFIED:20260214T150012Z
UID:232248-1781258400-1781456400@galerie-jaeschke.de
SUMMARY:Tag der Niedersachsen mit Max Grimm
DESCRIPTION:Tag der Niedersachsen bei Galerie Jaeschke\n12. Juni – 14. Juni 2026 | Braunschweig \nIm Rahmen des „Tag der Niedersachsen“ laden wir Sie herzlich vom 12. bis 14. Juni 2026 in die Galerie Jaeschke nach Braunschweig ein. \nAn diesem besonderen Wochenende präsentieren wir aktuelle Arbeiten des Künstlers Max Grimm. Seine Werke zeichnen sich durch eine detailreiche\, fantasievolle Bildsprache und einen unverwechselbaren Humor aus. Charakteristisch sind präzise ausgearbeitete Figuren\, narrative Elemente und eine eigenständige künstlerische Handschrift\, die seine Arbeiten sofort wiedererkennbar macht. \nWie in jedem Jahr wird Max Grimm zudem seine neue Autografik vorstellen! \nErgänzt wird das Kunstwochenende durch eine Weinprobe mit dem Weingut Schneider & Müller. Ausgewählte Weine begleiten die Ausstellung und schaffen einen genussvollen Rahmen für persönliche Gespräche und Begegnungen. \nDer „Tag der Niedersachsen“ verbindet Kultur\, Begegnung und Lebensfreude – wir freuen uns\, dieses besondere Stadtfest gemeinsam mit Ihnen in der Galerie zu feiern. \nWir freuen uns auf Ihren Besuch.
URL:https://galerie-jaeschke.de/veranstaltung/tag-der-niedersachsen-mit-max-grimm
LOCATION:Galerie-Jaeschke\, Schuhstraße 42\, Braunschweig\, Deutschland
CATEGORIES:Ausstellung
ORGANIZER;CN="Galerie Jaeschke":MAILTO:mail@galerie-jaeschke.de
END:VEVENT
END:VCALENDAR